BEGIN:VCALENDAR
VERSION:2.0
PRODID:-//Grand Strand Master Gardeners Association - ECPv6.15.20//NONSGML v1.0//EN
CALSCALE:GREGORIAN
METHOD:PUBLISH
X-ORIGINAL-URL:https://grandstrandmga.org
X-WR-CALDESC:Events for Grand Strand Master Gardeners Association
REFRESH-INTERVAL;VALUE=DURATION:PT1H
X-Robots-Tag:noindex
X-PUBLISHED-TTL:PT1H
BEGIN:VTIMEZONE
TZID:UTC
BEGIN:STANDARD
TZOFFSETFROM:+0000
TZOFFSETTO:+0000
TZNAME:UTC
DTSTART:20220101T000000
END:STANDARD
END:VTIMEZONE
BEGIN:VEVENT
DTSTART;TZID=UTC:20240227T183000
DTEND;TZID=UTC:20240227T200000
DTSTAMP:20260423T232300
CREATED:20240101T184937Z
LAST-MODIFIED:20240101T184937Z
UID:2271-1709058600-1709064000@grandstrandmga.org
SUMMARY:GSMGA Monthly Meeting
DESCRIPTION:
URL:https://grandstrandmga.org/event/gsmga-monthly-meeting-10/
LOCATION:Church of Christ Grand Strand\, 2212 Glenns Bay Road\, Surfside Beach\, SC\, United States
END:VEVENT
BEGIN:VEVENT
DTSTART;TZID=UTC:20240123T183000
DTEND;TZID=UTC:20240123T200000
DTSTAMP:20260423T232300
CREATED:20240101T184845Z
LAST-MODIFIED:20240101T184845Z
UID:2269-1706034600-1706040000@grandstrandmga.org
SUMMARY:GSMGA Monthly Meeting
DESCRIPTION:
URL:https://grandstrandmga.org/event/gsmga-monthly-meeting-9/
LOCATION:Church of Christ Grand Strand\, 2212 Glenns Bay Road\, Surfside Beach\, SC\, United States
END:VEVENT
BEGIN:VEVENT
DTSTART;TZID=UTC:20231024T183000
DTEND;TZID=UTC:20231024T200000
DTSTAMP:20260423T232300
CREATED:20231005T153855Z
LAST-MODIFIED:20231005T153855Z
UID:2247-1698172200-1698177600@grandstrandmga.org
SUMMARY:GSMGA Monthly Meeting
DESCRIPTION:
URL:https://grandstrandmga.org/event/gsmga-monthly-meeting-8/
LOCATION:Church of Christ Grand Strand\, 2212 Glenns Bay Road\, Surfside Beach\, SC\, United States
END:VEVENT
BEGIN:VEVENT
DTSTART;TZID=UTC:20231008T134500
DTEND;TZID=UTC:20231008T163000
DTSTAMP:20260423T232300
CREATED:20231005T154437Z
LAST-MODIFIED:20231005T190902Z
UID:2249-1696772700-1696782600@grandstrandmga.org
SUMMARY:Lewis Ocean Bay Field Trip - Members Only
DESCRIPTION:
URL:https://grandstrandmga.org/event/lewis-ocean-bay-field-trip/
LOCATION:Lewis Ocean Bay Preserve\, 3715 SC-90\, Conway\, SC\, 29526
END:VEVENT
BEGIN:VEVENT
DTSTART;TZID=UTC:20230930T080000
DTEND;TZID=UTC:20230930T140000
DTSTAMP:20260423T232300
CREATED:20230729T171338Z
LAST-MODIFIED:20230729T171606Z
UID:2238-1696060800-1696082400@grandstrandmga.org
SUMMARY:GSMGA Garage Sale
DESCRIPTION:
URL:https://grandstrandmga.org/event/gsmga-garage-sale/
LOCATION:Unity Myrtle Beach Church\, 6173 Salem Road\, Myrtle Beach\, SC\, 29588-5250\, United States
END:VEVENT
BEGIN:VEVENT
DTSTART;TZID=UTC:20230926T183000
DTEND;TZID=UTC:20230926T200000
DTSTAMP:20260423T232300
CREATED:20230729T171724Z
LAST-MODIFIED:20230729T171724Z
UID:2244-1695753000-1695758400@grandstrandmga.org
SUMMARY:GSMGA Monthly Meeting
DESCRIPTION:
URL:https://grandstrandmga.org/event/gsmga-monthly-meeting-7/
LOCATION:Church of Christ Grand Strand\, 2212 Glenns Bay Road\, Surfside Beach\, SC\, United States
END:VEVENT
BEGIN:VEVENT
DTSTART;TZID=UTC:20230831T100000
DTEND;TZID=UTC:20230831T123000
DTSTAMP:20260423T232300
CREATED:20230629T170836Z
LAST-MODIFIED:20230629T170836Z
UID:2214-1693476000-1693485000@grandstrandmga.org
SUMMARY:Plant Problem Clinic
DESCRIPTION:
URL:https://grandstrandmga.org/event/plant-problem-clinic-71/
LOCATION:Inlet Square Mall\, 12125 US Highway 17 Bypass South\, Murrells Inlet\, SC\, 29576\, United States
END:VEVENT
BEGIN:VEVENT
DTSTART;TZID=UTC:20230829T100000
DTEND;TZID=UTC:20230829T140000
DTSTAMP:20260423T232300
CREATED:20230629T165013Z
LAST-MODIFIED:20230629T165013Z
UID:2196-1693303200-1693317600@grandstrandmga.org
SUMMARY:Plant Problem Clinic
DESCRIPTION:
URL:https://grandstrandmga.org/event/plant-problem-clinic-62/
LOCATION:Surfside Farmers Market\, Surfside Dr &\, N Willow Dr\,\, Surfside Beach\, SC\, 29575\, United States
END:VEVENT
BEGIN:VEVENT
DTSTART;TZID=UTC:20230826T090000
DTEND;TZID=UTC:20230826T130000
DTSTAMP:20260423T232300
CREATED:20230629T171821Z
LAST-MODIFIED:20230629T171821Z
UID:2232-1693040400-1693054800@grandstrandmga.org
SUMMARY:Plant Problem Clinic
DESCRIPTION:
URL:https://grandstrandmga.org/event/plant-problem-clinic-80/
LOCATION:Georgetown Farmers Market\, 122 Screven Street\, Georgetown\, SC\, 29440\, United States
END:VEVENT
BEGIN:VEVENT
DTSTART;TZID=UTC:20230824T100000
DTEND;TZID=UTC:20230824T123000
DTSTAMP:20260423T232300
CREATED:20230629T170500Z
LAST-MODIFIED:20230629T170500Z
UID:2210-1692871200-1692880200@grandstrandmga.org
SUMMARY:Plant Problem Clinic
DESCRIPTION:
URL:https://grandstrandmga.org/event/plant-problem-clinic-69/
LOCATION:Inlet Square Mall\, 12125 US Highway 17 Bypass South\, Murrells Inlet\, SC\, 29576\, United States
END:VEVENT
BEGIN:VEVENT
DTSTART;TZID=UTC:20230819T090000
DTEND;TZID=UTC:20230819T130000
DTSTAMP:20260423T232300
CREATED:20230629T171559Z
LAST-MODIFIED:20230629T171559Z
UID:2230-1692435600-1692450000@grandstrandmga.org
SUMMARY:Plant Problem Clinic
DESCRIPTION:
URL:https://grandstrandmga.org/event/plant-problem-clinic-79/
LOCATION:Georgetown Farmers Market\, 122 Screven Street\, Georgetown\, SC\, 29440\, United States
END:VEVENT
BEGIN:VEVENT
DTSTART;TZID=UTC:20230817T100000
DTEND;TZID=UTC:20230817T123000
DTSTAMP:20260423T232300
CREATED:20230629T165444Z
LAST-MODIFIED:20230629T165444Z
UID:2208-1692266400-1692275400@grandstrandmga.org
SUMMARY:Plant Problem Clinic
DESCRIPTION:
URL:https://grandstrandmga.org/event/plant-problem-clinic-68/
LOCATION:Inlet Square Mall\, 12125 US Highway 17 Bypass South\, Murrells Inlet\, SC\, 29576\, United States
END:VEVENT
BEGIN:VEVENT
DTSTART;TZID=UTC:20230815T100000
DTEND;TZID=UTC:20230815T140000
DTSTAMP:20260423T232300
CREATED:20230629T164921Z
LAST-MODIFIED:20230629T164921Z
UID:2194-1692093600-1692108000@grandstrandmga.org
SUMMARY:Plant Problem Clinic
DESCRIPTION:
URL:https://grandstrandmga.org/event/plant-problem-clinic-61/
LOCATION:Surfside Farmers Market\, Surfside Dr &\, N Willow Dr\,\, Surfside Beach\, SC\, 29575\, United States
END:VEVENT
BEGIN:VEVENT
DTSTART;TZID=UTC:20230812T090000
DTEND;TZID=UTC:20230812T130000
DTSTAMP:20260423T232300
CREATED:20230629T171524Z
LAST-MODIFIED:20230629T171524Z
UID:2228-1691830800-1691845200@grandstrandmga.org
SUMMARY:Plant Problem Clinic
DESCRIPTION:
URL:https://grandstrandmga.org/event/plant-problem-clinic-78/
LOCATION:Georgetown Farmers Market\, 122 Screven Street\, Georgetown\, SC\, 29440\, United States
END:VEVENT
BEGIN:VEVENT
DTSTART;TZID=UTC:20230810T100000
DTEND;TZID=UTC:20230810T123000
DTSTAMP:20260423T232300
CREATED:20230629T170803Z
LAST-MODIFIED:20230629T170803Z
UID:2212-1691661600-1691670600@grandstrandmga.org
SUMMARY:Plant Problem Clinic
DESCRIPTION:
URL:https://grandstrandmga.org/event/plant-problem-clinic-70/
LOCATION:Inlet Square Mall\, 12125 US Highway 17 Bypass South\, Murrells Inlet\, SC\, 29576\, United States
END:VEVENT
BEGIN:VEVENT
DTSTART;TZID=UTC:20230808T100000
DTEND;TZID=UTC:20230808T140000
DTSTAMP:20260423T232300
CREATED:20230629T164844Z
LAST-MODIFIED:20230629T164844Z
UID:2192-1691488800-1691503200@grandstrandmga.org
SUMMARY:Plant Problem Clinic
DESCRIPTION:
URL:https://grandstrandmga.org/event/plant-problem-clinic-60/
LOCATION:Surfside Farmers Market\, Surfside Dr &\, N Willow Dr\,\, Surfside Beach\, SC\, 29575\, United States
END:VEVENT
BEGIN:VEVENT
DTSTART;TZID=UTC:20230805T090000
DTEND;TZID=UTC:20230805T130000
DTSTAMP:20260423T232300
CREATED:20230629T171454Z
LAST-MODIFIED:20230629T171454Z
UID:2226-1691226000-1691240400@grandstrandmga.org
SUMMARY:Plant Problem Clinic
DESCRIPTION:
URL:https://grandstrandmga.org/event/plant-problem-clinic-77/
LOCATION:Georgetown Farmers Market\, 122 Screven Street\, Georgetown\, SC\, 29440\, United States
END:VEVENT
BEGIN:VEVENT
DTSTART;TZID=UTC:20230803T100000
DTEND;TZID=UTC:20230803T123000
DTSTAMP:20260423T232300
CREATED:20230629T165403Z
LAST-MODIFIED:20230629T165403Z
UID:2206-1691056800-1691065800@grandstrandmga.org
SUMMARY:Plant Problem Clinic
DESCRIPTION:
URL:https://grandstrandmga.org/event/plant-problem-clinic-67/
LOCATION:Inlet Square Mall\, 12125 US Highway 17 Bypass South\, Murrells Inlet\, SC\, 29576\, United States
END:VEVENT
BEGIN:VEVENT
DTSTART;TZID=UTC:20230801T100000
DTEND;TZID=UTC:20230801T140000
DTSTAMP:20260423T232300
CREATED:20230629T164746Z
LAST-MODIFIED:20230629T164746Z
UID:2190-1690884000-1690898400@grandstrandmga.org
SUMMARY:Plant Problem Clinic
DESCRIPTION:
URL:https://grandstrandmga.org/event/plant-problem-clinic-59/
LOCATION:Surfside Farmers Market\, Surfside Dr &\, N Willow Dr\,\, Surfside Beach\, SC\, 29575\, United States
END:VEVENT
BEGIN:VEVENT
DTSTART;TZID=UTC:20230729T090000
DTEND;TZID=UTC:20230729T133000
DTSTAMP:20260423T232300
CREATED:20230629T171340Z
LAST-MODIFIED:20230629T171340Z
UID:2222-1690621200-1690637400@grandstrandmga.org
SUMMARY:Plant Problem Clinic
DESCRIPTION:
URL:https://grandstrandmga.org/event/plant-problem-clinic-75/
LOCATION:Georgetown Farmers Market\, 122 Screven Street\, Georgetown\, SC\, 29440\, United States
END:VEVENT
BEGIN:VEVENT
DTSTART;TZID=UTC:20230727T100000
DTEND;TZID=UTC:20230727T123000
DTSTAMP:20260423T232300
CREATED:20230629T165321Z
LAST-MODIFIED:20230629T165321Z
UID:2204-1690452000-1690461000@grandstrandmga.org
SUMMARY:Plant Problem Clinic
DESCRIPTION:
URL:https://grandstrandmga.org/event/plant-problem-clinic-66/
LOCATION:Inlet Square Mall\, 12125 US Highway 17 Bypass South\, Murrells Inlet\, SC\, 29576\, United States
END:VEVENT
BEGIN:VEVENT
DTSTART;TZID=UTC:20230725T183000
DTEND;TZID=UTC:20230725T200000
DTSTAMP:20260423T232300
CREATED:20230629T172010Z
LAST-MODIFIED:20230629T172010Z
UID:2234-1690309800-1690315200@grandstrandmga.org
SUMMARY:GSMGA Monthly Meeting
DESCRIPTION:
URL:https://grandstrandmga.org/event/gsmga-monthly-meeting-6/
LOCATION:Church of Christ Grand Strand\, 2212 Glenns Bay Road\, Surfside Beach\, SC\, United States
END:VEVENT
BEGIN:VEVENT
DTSTART;TZID=UTC:20230725T100000
DTEND;TZID=UTC:20230725T140000
DTSTAMP:20260423T232300
CREATED:20230629T164650Z
LAST-MODIFIED:20230629T164650Z
UID:2188-1690279200-1690293600@grandstrandmga.org
SUMMARY:Plant Problem Clinic
DESCRIPTION:
URL:https://grandstrandmga.org/event/plant-problem-clinic-58/
LOCATION:Surfside Farmers Market\, Surfside Dr &\, N Willow Dr\,\, Surfside Beach\, SC\, 29575\, United States
END:VEVENT
BEGIN:VEVENT
DTSTART;TZID=UTC:20230722T090000
DTEND;TZID=UTC:20230722T130000
DTSTAMP:20260423T232300
CREATED:20230629T171422Z
LAST-MODIFIED:20230629T171422Z
UID:2224-1690016400-1690030800@grandstrandmga.org
SUMMARY:Plant Problem Clinic
DESCRIPTION:
URL:https://grandstrandmga.org/event/plant-problem-clinic-76/
LOCATION:Georgetown Farmers Market\, 122 Screven Street\, Georgetown\, SC\, 29440\, United States
END:VEVENT
BEGIN:VEVENT
DTSTART;TZID=UTC:20230720T100000
DTEND;TZID=UTC:20230720T123000
DTSTAMP:20260423T232300
CREATED:20230629T165234Z
LAST-MODIFIED:20230629T165234Z
UID:2202-1689847200-1689856200@grandstrandmga.org
SUMMARY:Plant Problem Clinic
DESCRIPTION:
URL:https://grandstrandmga.org/event/plant-problem-clinic-65/
LOCATION:Inlet Square Mall\, 12125 US Highway 17 Bypass South\, Murrells Inlet\, SC\, 29576\, United States
END:VEVENT
BEGIN:VEVENT
DTSTART;TZID=UTC:20230718T100000
DTEND;TZID=UTC:20230718T140000
DTSTAMP:20260423T232300
CREATED:20230629T164605Z
LAST-MODIFIED:20230629T164605Z
UID:2186-1689674400-1689688800@grandstrandmga.org
SUMMARY:Plant Problem Clinic
DESCRIPTION:
URL:https://grandstrandmga.org/event/plant-problem-clinic-57/
LOCATION:Surfside Farmers Market\, Surfside Dr &\, N Willow Dr\,\, Surfside Beach\, SC\, 29575\, United States
END:VEVENT
BEGIN:VEVENT
DTSTART;TZID=UTC:20230715T090000
DTEND;TZID=UTC:20230715T130000
DTSTAMP:20260423T232300
CREATED:20230629T171241Z
LAST-MODIFIED:20230629T171241Z
UID:2220-1689411600-1689426000@grandstrandmga.org
SUMMARY:Plant Problem Clinic
DESCRIPTION:
URL:https://grandstrandmga.org/event/plant-problem-clinic-74/
LOCATION:Georgetown Farmers Market\, 122 Screven Street\, Georgetown\, SC\, 29440\, United States
END:VEVENT
BEGIN:VEVENT
DTSTART;TZID=UTC:20230713T100000
DTEND;TZID=UTC:20230713T123000
DTSTAMP:20260423T232300
CREATED:20230629T165144Z
LAST-MODIFIED:20230629T165144Z
UID:2200-1689242400-1689251400@grandstrandmga.org
SUMMARY:Plant Problem Clinic
DESCRIPTION:
URL:https://grandstrandmga.org/event/plant-problem-clinic-64/
LOCATION:Inlet Square Mall\, 12125 US Highway 17 Bypass South\, Murrells Inlet\, SC\, 29576\, United States
END:VEVENT
BEGIN:VEVENT
DTSTART;TZID=UTC:20230711T100000
DTEND;TZID=UTC:20230711T140000
DTSTAMP:20260423T232300
CREATED:20230629T164217Z
LAST-MODIFIED:20230629T164509Z
UID:2184-1689069600-1689084000@grandstrandmga.org
SUMMARY:Plant Problem Clinic
DESCRIPTION:
URL:https://grandstrandmga.org/event/plant-problem-clinic-56/
LOCATION:Surfside Farmers Market\, Surfside Dr &\, N Willow Dr\,\, Surfside Beach\, SC\, 29575\, United States
END:VEVENT
BEGIN:VEVENT
DTSTART;TZID=UTC:20230708T090000
DTEND;TZID=UTC:20230708T130000
DTSTAMP:20260423T232300
CREATED:20230629T171157Z
LAST-MODIFIED:20230629T171157Z
UID:2218-1688806800-1688821200@grandstrandmga.org
SUMMARY:Plant Problem Clinic
DESCRIPTION:
URL:https://grandstrandmga.org/event/plant-problem-clinic-73/
LOCATION:Georgetown Farmers Market\, 122 Screven Street\, Georgetown\, SC\, 29440\, United States
END:VEVENT
END:VCALENDAR