BEGIN:VCALENDAR
VERSION:2.0
PRODID:-//Grand Strand Master Gardeners Association - ECPv6.15.20//NONSGML v1.0//EN
CALSCALE:GREGORIAN
METHOD:PUBLISH
X-WR-CALNAME:Grand Strand Master Gardeners Association
X-ORIGINAL-URL:https://grandstrandmga.org
X-WR-CALDESC:Events for Grand Strand Master Gardeners Association
REFRESH-INTERVAL;VALUE=DURATION:PT1H
X-Robots-Tag:noindex
X-PUBLISHED-TTL:PT1H
BEGIN:VTIMEZONE
TZID:UTC
BEGIN:STANDARD
TZOFFSETFROM:+0000
TZOFFSETTO:+0000
TZNAME:UTC
DTSTART:20240101T000000
END:STANDARD
END:VTIMEZONE
BEGIN:VEVENT
DTSTART;TZID=UTC:20250705T090000
DTEND;TZID=UTC:20250705T130000
DTSTAMP:20260424T002804
CREATED:20250328T173217Z
LAST-MODIFIED:20250328T173217Z
UID:2853-1751706000-1751720400@grandstrandmga.org
SUMMARY:Plant Problem Clinic
DESCRIPTION:
URL:https://grandstrandmga.org/event/plant-problem-clinic-107/
LOCATION:Georgetown Farmers Market\, 122 Screven Street\, Georgetown\, SC\, 29440\, United States
END:VEVENT
BEGIN:VEVENT
DTSTART;TZID=UTC:20250704T083000
DTEND;TZID=UTC:20250704T120000
DTSTAMP:20260424T002804
CREATED:20250328T173115Z
LAST-MODIFIED:20250328T173115Z
UID:2851-1751617800-1751630400@grandstrandmga.org
SUMMARY:Plant Problem Clinic
DESCRIPTION:
URL:https://grandstrandmga.org/event/plant-problem-clinic-106/
LOCATION:North Myrtle Beach Farmers Market\, 925 1st Ave. S\, North Myrtle Beach\, SC\, United States
END:VEVENT
BEGIN:VEVENT
DTSTART;TZID=UTC:20250701T083000
DTEND;TZID=UTC:20250701T123000
DTSTAMP:20260424T002804
CREATED:20250328T173309Z
LAST-MODIFIED:20250330T183200Z
UID:2855-1751358600-1751373000@grandstrandmga.org
SUMMARY:Plant Problem Clinic
DESCRIPTION:
URL:https://grandstrandmga.org/event/plant-problem-clinic-108/
LOCATION:Surfside Farmers Market\, Surfside Dr &\, N Willow Dr\,\, Surfside Beach\, SC\, 29575\, United States
END:VEVENT
BEGIN:VEVENT
DTSTART;TZID=UTC:20250626T120000
DTEND;TZID=UTC:20250626T160000
DTSTAMP:20260424T002804
CREATED:20250328T173004Z
LAST-MODIFIED:20250328T173004Z
UID:2849-1750939200-1750953600@grandstrandmga.org
SUMMARY:Plant Problem Clinic
DESCRIPTION:
URL:https://grandstrandmga.org/event/plant-problem-clinic-105/
LOCATION:Culinary Institute\, 920 Crabtree Lane\, Myrtle Beach\, SC\, United States
END:VEVENT
BEGIN:VEVENT
DTSTART;TZID=UTC:20250624T180000
DTEND;TZID=UTC:20250624T193000
DTSTAMP:20260424T002804
CREATED:20250328T170353Z
LAST-MODIFIED:20250328T170353Z
UID:2839-1750788000-1750793400@grandstrandmga.org
SUMMARY:GSMG Monthly Meeting
DESCRIPTION:
URL:https://grandstrandmga.org/event/gsmg-monthly-meeting-4/
LOCATION:Church of Christ Grand Strand\, 2212 Glenns Bay Road\, Surfside Beach\, SC\, United States
END:VEVENT
BEGIN:VEVENT
DTSTART;TZID=UTC:20250621T090000
DTEND;TZID=UTC:20250621T130000
DTSTAMP:20260424T002804
CREATED:20250328T170814Z
LAST-MODIFIED:20250328T170814Z
UID:2845-1750496400-1750510800@grandstrandmga.org
SUMMARY:Plant Problem Clinic
DESCRIPTION:
URL:https://grandstrandmga.org/event/plant-problem-clinic-103/
LOCATION:Georgetown Farmers Market\, 122 Screven Street\, Georgetown\, SC\, 29440\, United States
END:VEVENT
BEGIN:VEVENT
DTSTART;TZID=UTC:20250620T083000
DTEND;TZID=UTC:20250620T120000
DTSTAMP:20260424T002804
CREATED:20250328T170726Z
LAST-MODIFIED:20250328T170726Z
UID:2843-1750408200-1750420800@grandstrandmga.org
SUMMARY:Plant Problem Clinic
DESCRIPTION:
URL:https://grandstrandmga.org/event/plant-problem-clinic-102/
LOCATION:North Myrtle Beach Farmers Market\, 925 1st Ave. S\, North Myrtle Beach\, SC\, United States
END:VEVENT
BEGIN:VEVENT
DTSTART;TZID=UTC:20250617T083000
DTEND;TZID=UTC:20250617T123000
DTSTAMP:20260424T002804
CREATED:20250328T171446Z
LAST-MODIFIED:20250330T183306Z
UID:2847-1750149000-1750163400@grandstrandmga.org
SUMMARY:Plant Problem Clinic
DESCRIPTION:
URL:https://grandstrandmga.org/event/plant-problem-clinic-104/
LOCATION:Surfside Farmers Market\, Surfside Dr &\, N Willow Dr\,\, Surfside Beach\, SC\, 29575\, United States
END:VEVENT
BEGIN:VEVENT
DTSTART;TZID=UTC:20250612T120000
DTEND;TZID=UTC:20250612T160000
DTSTAMP:20260424T002804
CREATED:20250328T170557Z
LAST-MODIFIED:20250328T170557Z
UID:2841-1749729600-1749744000@grandstrandmga.org
SUMMARY:Plant Problem Clinic
DESCRIPTION:
URL:https://grandstrandmga.org/event/plant-problem-clinic-101/
LOCATION:Culinary Institute\, 920 Crabtree Lane\, Myrtle Beach\, SC\, United States
END:VEVENT
BEGIN:VEVENT
DTSTART;TZID=UTC:20250607T090000
DTEND;TZID=UTC:20250607T130000
DTSTAMP:20260424T002804
CREATED:20250328T170140Z
LAST-MODIFIED:20250328T170140Z
UID:2835-1749286800-1749301200@grandstrandmga.org
SUMMARY:Plant Problem Clinic
DESCRIPTION:
URL:https://grandstrandmga.org/event/plant-problem-clinic-99/
LOCATION:Georgetown Farmers Market\, 122 Screven Street\, Georgetown\, SC\, 29440\, United States
END:VEVENT
BEGIN:VEVENT
DTSTART;TZID=UTC:20250606T083000
DTEND;TZID=UTC:20250606T120000
DTSTAMP:20260424T002804
CREATED:20250328T170057Z
LAST-MODIFIED:20250328T170057Z
UID:2833-1749198600-1749211200@grandstrandmga.org
SUMMARY:Plant Problem Clinic
DESCRIPTION:
URL:https://grandstrandmga.org/event/plant-problem-clinic-98/
LOCATION:North Myrtle Beach Farmers Market\, 925 1st Ave. S\, North Myrtle Beach\, SC\, United States
END:VEVENT
BEGIN:VEVENT
DTSTART;TZID=UTC:20250603T083000
DTEND;TZID=UTC:20250603T123000
DTSTAMP:20260424T002804
CREATED:20250328T170228Z
LAST-MODIFIED:20250330T183428Z
UID:2837-1748939400-1748953800@grandstrandmga.org
SUMMARY:Plant Problem Clinic
DESCRIPTION:
URL:https://grandstrandmga.org/event/plant-problem-clinic-100/
LOCATION:Surfside Farmers Market\, Surfside Dr &\, N Willow Dr\,\, Surfside Beach\, SC\, 29575\, United States
END:VEVENT
BEGIN:VEVENT
DTSTART;TZID=UTC:20250527T180000
DTEND;TZID=UTC:20250527T193000
DTSTAMP:20260424T002804
CREATED:20250330T184037Z
LAST-MODIFIED:20250330T184037Z
UID:2932-1748368800-1748374200@grandstrandmga.org
SUMMARY:GSMG Monthly Meeting
DESCRIPTION:
URL:https://grandstrandmga.org/event/gsmg-monthly-meeting-8/
LOCATION:Church of Christ Grand Strand\, 2212 Glenns Bay Road\, Surfside Beach\, SC\, United States
END:VEVENT
BEGIN:VEVENT
DTSTART;TZID=UTC:20250522T120000
DTEND;TZID=UTC:20250522T160000
DTSTAMP:20260424T002804
CREATED:20250328T162802Z
LAST-MODIFIED:20250328T162802Z
UID:2814-1747915200-1747929600@grandstrandmga.org
SUMMARY:Plant Problem Clinic
DESCRIPTION:
URL:https://grandstrandmga.org/event/plant-problem-clinic-96/
LOCATION:Culinary Institute\, 920 Crabtree Lane\, Myrtle Beach\, SC\, United States
END:VEVENT
BEGIN:VEVENT
DTSTART;TZID=UTC:20250520T083000
DTEND;TZID=UTC:20250520T123000
DTSTAMP:20260424T002804
CREATED:20250328T162853Z
LAST-MODIFIED:20250330T183511Z
UID:2816-1747729800-1747744200@grandstrandmga.org
SUMMARY:Plant Problem Clinic
DESCRIPTION:
URL:https://grandstrandmga.org/event/plant-problem-clinic-97/
LOCATION:Surfside Farmers Market\, Surfside Dr &\, N Willow Dr\,\, Surfside Beach\, SC\, 29575\, United States
END:VEVENT
BEGIN:VEVENT
DTSTART;TZID=UTC:20250517T090000
DTEND;TZID=UTC:20250517T130000
DTSTAMP:20260424T002804
CREATED:20250328T162000Z
LAST-MODIFIED:20250328T162000Z
UID:2808-1747472400-1747486800@grandstrandmga.org
SUMMARY:Plant Problem Clinic
DESCRIPTION:
URL:https://grandstrandmga.org/event/plant-problem-clinic-93/
LOCATION:Georgetown Farmers Market\, 122 Screven Street\, Georgetown\, SC\, 29440\, United States
END:VEVENT
BEGIN:VEVENT
DTSTART;TZID=UTC:20250516T083000
DTEND;TZID=UTC:20250516T120000
DTSTAMP:20260424T002804
CREATED:20250328T161840Z
LAST-MODIFIED:20250328T161840Z
UID:2806-1747384200-1747396800@grandstrandmga.org
SUMMARY:Plant Problem Clinic
DESCRIPTION:
URL:https://grandstrandmga.org/event/plant-problem-clinic-92/
LOCATION:North Myrtle Beach Farmers Market\, 925 1st Ave. S\, North Myrtle Beach\, SC\, United States
END:VEVENT
BEGIN:VEVENT
DTSTART;TZID=UTC:20250508T120000
DTEND;TZID=UTC:20250508T160000
DTSTAMP:20260424T002804
CREATED:20250328T162530Z
LAST-MODIFIED:20250328T162530Z
UID:2812-1746705600-1746720000@grandstrandmga.org
SUMMARY:Plant Problem Clinic
DESCRIPTION:
URL:https://grandstrandmga.org/event/plant-problem-clinic-95/
LOCATION:Culinary Institute\, 920 Crabtree Lane\, Myrtle Beach\, SC\, United States
END:VEVENT
BEGIN:VEVENT
DTSTART;TZID=UTC:20250506T083000
DTEND;TZID=UTC:20250506T123000
DTSTAMP:20260424T002804
CREATED:20250328T161735Z
LAST-MODIFIED:20250330T183556Z
UID:2804-1746520200-1746534600@grandstrandmga.org
SUMMARY:Plant Problem Clinic
DESCRIPTION:
URL:https://grandstrandmga.org/event/plant-problem-clinic-91/
LOCATION:Surfside Farmers Market\, Surfside Dr &\, N Willow Dr\,\, Surfside Beach\, SC\, 29575\, United States
END:VEVENT
BEGIN:VEVENT
DTSTART;TZID=UTC:20250503T090000
DTEND;TZID=UTC:20250503T130000
DTSTAMP:20260424T002804
CREATED:20250328T162157Z
LAST-MODIFIED:20250328T162157Z
UID:2810-1746262800-1746277200@grandstrandmga.org
SUMMARY:Plant Problem Clinic
DESCRIPTION:
URL:https://grandstrandmga.org/event/plant-problem-clinic-94/
LOCATION:Georgetown Farmers Market\, 122 Screven Street\, Georgetown\, SC\, 29440\, United States
END:VEVENT
BEGIN:VEVENT
DTSTART;TZID=UTC:20250502T083000
DTEND;TZID=UTC:20250502T120000
DTSTAMP:20260424T002804
CREATED:20250328T161421Z
LAST-MODIFIED:20250328T161421Z
UID:2802-1746174600-1746187200@grandstrandmga.org
SUMMARY:Plant Problem Clinic
DESCRIPTION:
URL:https://grandstrandmga.org/event/plant-problem-clinic-90/
LOCATION:North Myrtle Beach Farmers Market\, 925 1st Ave. S\, North Myrtle Beach\, SC\, United States
END:VEVENT
BEGIN:VEVENT
DTSTART;TZID=UTC:20250424T120000
DTEND;TZID=UTC:20250424T160000
DTSTAMP:20260424T002804
CREATED:20250328T161325Z
LAST-MODIFIED:20250328T161325Z
UID:2800-1745496000-1745510400@grandstrandmga.org
SUMMARY:Plant Problem Clinic
DESCRIPTION:
URL:https://grandstrandmga.org/event/plant-problem-clinic-89/
LOCATION:Culinary Institute\, 920 Crabtree Lane\, Myrtle Beach\, SC\, United States
END:VEVENT
BEGIN:VEVENT
DTSTART;TZID=UTC:20250422T180000
DTEND;TZID=UTC:20250422T193000
DTSTAMP:20260424T002804
CREATED:20250224T153029Z
LAST-MODIFIED:20250224T153029Z
UID:2779-1745344800-1745350200@grandstrandmga.org
SUMMARY:GSMG Monthly Meeting
DESCRIPTION:
URL:https://grandstrandmga.org/event/gsmg-monthly-meeting-3/
LOCATION:Church of Christ Grand Strand\, 2212 Glenns Bay Road\, Surfside Beach\, SC\, United States
END:VEVENT
BEGIN:VEVENT
DTSTART;TZID=UTC:20250419T090000
DTEND;TZID=UTC:20250419T130000
DTSTAMP:20260424T002804
CREATED:20250328T161116Z
LAST-MODIFIED:20250328T161116Z
UID:2796-1745053200-1745067600@grandstrandmga.org
SUMMARY:Plant Problem Clinic
DESCRIPTION:
URL:https://grandstrandmga.org/event/plant-problem-clinic-87/
LOCATION:Georgetown Farmers Market\, 122 Screven Street\, Georgetown\, SC\, 29440\, United States
END:VEVENT
BEGIN:VEVENT
DTSTART;TZID=UTC:20250418T083000
DTEND;TZID=UTC:20250418T120000
DTSTAMP:20260424T002804
CREATED:20250328T160950Z
LAST-MODIFIED:20250328T160950Z
UID:2794-1744965000-1744977600@grandstrandmga.org
SUMMARY:Plant Problem Clinic
DESCRIPTION:
URL:https://grandstrandmga.org/event/plant-problem-clinic-86/
LOCATION:North Myrtle Beach Farmers Market\, 925 1st Ave. S\, North Myrtle Beach\, SC\, United States
END:VEVENT
BEGIN:VEVENT
DTSTART;TZID=UTC:20250415T083000
DTEND;TZID=UTC:20250415T123000
DTSTAMP:20260424T002804
CREATED:20250328T161236Z
LAST-MODIFIED:20250330T183644Z
UID:2798-1744705800-1744720200@grandstrandmga.org
SUMMARY:Plant Problem Clinic
DESCRIPTION:
URL:https://grandstrandmga.org/event/plant-problem-clinic-88/
LOCATION:Surfside Farmers Market\, Surfside Dr &\, N Willow Dr\,\, Surfside Beach\, SC\, 29575\, United States
END:VEVENT
BEGIN:VEVENT
DTSTART;TZID=UTC:20250410T120000
DTEND;TZID=UTC:20250410T160000
DTSTAMP:20260424T002804
CREATED:20250328T160808Z
LAST-MODIFIED:20250328T160808Z
UID:2791-1744286400-1744300800@grandstrandmga.org
SUMMARY:Plant Problem Clinic
DESCRIPTION:
URL:https://grandstrandmga.org/event/plant-problem-clinic-85/
LOCATION:Culinary Institute\, 920 Crabtree Lane\, Myrtle Beach\, SC\, United States
END:VEVENT
BEGIN:VEVENT
DTSTART;TZID=UTC:20250405T090000
DTEND;TZID=UTC:20250405T130000
DTSTAMP:20260424T002804
CREATED:20250328T160417Z
LAST-MODIFIED:20250328T160417Z
UID:2787-1743843600-1743858000@grandstrandmga.org
SUMMARY:Plant Problem Clinic
DESCRIPTION:
URL:https://grandstrandmga.org/event/plant-problem-clinic-83/
LOCATION:Georgetown Farmers Market\, 122 Screven Street\, Georgetown\, SC\, 29440\, United States
END:VEVENT
BEGIN:VEVENT
DTSTART;TZID=UTC:20250404T083000
DTEND;TZID=UTC:20250404T120000
DTSTAMP:20260424T002804
CREATED:20250328T160310Z
LAST-MODIFIED:20250328T160310Z
UID:2783-1743755400-1743768000@grandstrandmga.org
SUMMARY:Plant Problem Clinic
DESCRIPTION:
URL:https://grandstrandmga.org/event/plant-problem-clinic-82/
LOCATION:North Myrtle Beach Farmers Market\, 925 1st Ave. S\, North Myrtle Beach\, SC\, United States
END:VEVENT
BEGIN:VEVENT
DTSTART;TZID=UTC:20250401T083000
DTEND;TZID=UTC:20250401T123000
DTSTAMP:20260424T002804
CREATED:20250328T160523Z
LAST-MODIFIED:20250330T183720Z
UID:2789-1743496200-1743510600@grandstrandmga.org
SUMMARY:Plant Problem Clinic
DESCRIPTION:
URL:https://grandstrandmga.org/event/plant-problem-clinic-84/
LOCATION:Surfside Farmers Market\, Surfside Dr &\, N Willow Dr\,\, Surfside Beach\, SC\, 29575\, United States
END:VEVENT
END:VCALENDAR