BEGIN:VCALENDAR
VERSION:2.0
PRODID:-//Grand Strand Master Gardeners Association - ECPv6.15.20//NONSGML v1.0//EN
CALSCALE:GREGORIAN
METHOD:PUBLISH
X-WR-CALNAME:Grand Strand Master Gardeners Association
X-ORIGINAL-URL:https://grandstrandmga.org
X-WR-CALDESC:Events for Grand Strand Master Gardeners Association
REFRESH-INTERVAL;VALUE=DURATION:PT1H
X-Robots-Tag:noindex
X-PUBLISHED-TTL:PT1H
BEGIN:VTIMEZONE
TZID:UTC
BEGIN:STANDARD
TZOFFSETFROM:+0000
TZOFFSETTO:+0000
TZNAME:UTC
DTSTART:20240101T000000
END:STANDARD
END:VTIMEZONE
BEGIN:VEVENT
DTSTART;TZID=UTC:20250919T083000
DTEND;TZID=UTC:20250919T120000
DTSTAMP:20260423T211953
CREATED:20250328T204454Z
LAST-MODIFIED:20250328T204529Z
UID:2897-1758270600-1758283200@grandstrandmga.org
SUMMARY:Plant Problem Clinic
DESCRIPTION:
URL:https://grandstrandmga.org/event/plant-problem-clinic-127/
LOCATION:North Myrtle Beach Farmers Market\, 925 1st Ave. S\, North Myrtle Beach\, SC\, United States
END:VEVENT
BEGIN:VEVENT
DTSTART;TZID=UTC:20250916T083000
DTEND;TZID=UTC:20250916T123000
DTSTAMP:20260423T211953
CREATED:20250328T204733Z
LAST-MODIFIED:20250330T182709Z
UID:2901-1758011400-1758025800@grandstrandmga.org
SUMMARY:Plant Problem Clinic
DESCRIPTION:
URL:https://grandstrandmga.org/event/plant-problem-clinic-129/
LOCATION:Surfside Farmers Market\, Surfside Dr &\, N Willow Dr\,\, Surfside Beach\, SC\, 29575\, United States
END:VEVENT
BEGIN:VEVENT
DTSTART;TZID=UTC:20250911T120000
DTEND;TZID=UTC:20250911T160000
DTSTAMP:20260423T211953
CREATED:20250328T204353Z
LAST-MODIFIED:20250328T204353Z
UID:2895-1757592000-1757606400@grandstrandmga.org
SUMMARY:Plant Problem Clinic
DESCRIPTION:
URL:https://grandstrandmga.org/event/plant-problem-clinic-126/
LOCATION:Culinary Institute\, 920 Crabtree Lane\, Myrtle Beach\, SC\, United States
END:VEVENT
BEGIN:VEVENT
DTSTART;TZID=UTC:20250906T090000
DTEND;TZID=UTC:20250906T130000
DTSTAMP:20260423T211953
CREATED:20250328T204204Z
LAST-MODIFIED:20250328T204204Z
UID:2891-1757149200-1757163600@grandstrandmga.org
SUMMARY:Plant Problem Clinic
DESCRIPTION:
URL:https://grandstrandmga.org/event/plant-problem-clinic-124/
LOCATION:Georgetown Farmers Market\, 122 Screven Street\, Georgetown\, SC\, 29440\, United States
END:VEVENT
BEGIN:VEVENT
DTSTART;TZID=UTC:20250905T083000
DTEND;TZID=UTC:20250905T120000
DTSTAMP:20260423T211953
CREATED:20250328T204100Z
LAST-MODIFIED:20250328T204100Z
UID:2889-1757061000-1757073600@grandstrandmga.org
SUMMARY:Plant Problem Clinic
DESCRIPTION:
URL:https://grandstrandmga.org/event/plant-problem-clinic-123/
LOCATION:North Myrtle Beach Farmers Market\, 925 1st Ave. S\, North Myrtle Beach\, SC\, United States
END:VEVENT
BEGIN:VEVENT
DTSTART;TZID=UTC:20250902T083000
DTEND;TZID=UTC:20250902T123000
DTSTAMP:20260423T211953
CREATED:20250328T204300Z
LAST-MODIFIED:20250330T182804Z
UID:2893-1756801800-1756816200@grandstrandmga.org
SUMMARY:Plant Problem Clinic
DESCRIPTION:
URL:https://grandstrandmga.org/event/plant-problem-clinic-125/
LOCATION:Surfside Farmers Market\, Surfside Dr &\, N Willow Dr\,\, Surfside Beach\, SC\, 29575\, United States
END:VEVENT
BEGIN:VEVENT
DTSTART;TZID=UTC:20250828T120000
DTEND;TZID=UTC:20250828T160000
DTSTAMP:20260423T211953
CREATED:20250328T175540Z
LAST-MODIFIED:20250328T175540Z
UID:2883-1756382400-1756396800@grandstrandmga.org
SUMMARY:Plant Problem Clinic
DESCRIPTION:
URL:https://grandstrandmga.org/event/plant-problem-clinic-122/
LOCATION:Culinary Institute\, 920 Crabtree Lane\, Myrtle Beach\, SC\, United States
END:VEVENT
BEGIN:VEVENT
DTSTART;TZID=UTC:20250819T083000
DTEND;TZID=UTC:20250819T123000
DTSTAMP:20260423T211953
CREATED:20250328T175436Z
LAST-MODIFIED:20250330T182849Z
UID:2881-1755592200-1755606600@grandstrandmga.org
SUMMARY:Plant Problem Clinic
DESCRIPTION:
URL:https://grandstrandmga.org/event/plant-problem-clinic-121/
LOCATION:Surfside Farmers Market\, Surfside Dr &\, N Willow Dr\,\, Surfside Beach\, SC\, 29575\, United States
END:VEVENT
BEGIN:VEVENT
DTSTART;TZID=UTC:20250816T090000
DTEND;TZID=UTC:20250816T130000
DTSTAMP:20260423T211953
CREATED:20250328T174856Z
LAST-MODIFIED:20250328T174856Z
UID:2879-1755334800-1755349200@grandstrandmga.org
SUMMARY:Plant Problem Clinic
DESCRIPTION:
URL:https://grandstrandmga.org/event/plant-problem-clinic-120/
LOCATION:Georgetown Farmers Market\, 122 Screven Street\, Georgetown\, SC\, 29440\, United States
END:VEVENT
BEGIN:VEVENT
DTSTART;TZID=UTC:20250815T083000
DTEND;TZID=UTC:20250815T120000
DTSTAMP:20260423T211953
CREATED:20250328T174810Z
LAST-MODIFIED:20250328T174810Z
UID:2877-1755246600-1755259200@grandstrandmga.org
SUMMARY:Plant Problem Clinic
DESCRIPTION:
URL:https://grandstrandmga.org/event/plant-problem-clinic-119/
LOCATION:North Myrtle Beach Farmers Market\, 925 1st Ave. S\, North Myrtle Beach\, SC\, United States
END:VEVENT
BEGIN:VEVENT
DTSTART;TZID=UTC:20250814T120000
DTEND;TZID=UTC:20250814T160000
DTSTAMP:20260423T211953
CREATED:20250328T174727Z
LAST-MODIFIED:20250328T174727Z
UID:2875-1755172800-1755187200@grandstrandmga.org
SUMMARY:Plant Problem Clinic
DESCRIPTION:
URL:https://grandstrandmga.org/event/plant-problem-clinic-118/
LOCATION:Culinary Institute\, 920 Crabtree Lane\, Myrtle Beach\, SC\, United States
END:VEVENT
BEGIN:VEVENT
DTSTART;TZID=UTC:20250814T080000
DTEND;TZID=UTC:20250814T170000
DTSTAMP:20260423T211953
CREATED:20250328T174638Z
LAST-MODIFIED:20250328T174638Z
UID:2873-1755158400-1755190800@grandstrandmga.org
SUMMARY:Plant Problem Clinic
DESCRIPTION:
URL:https://grandstrandmga.org/event/plant-problem-clinic-117/
LOCATION:Culinary Institute\, 920 Crabtree Lane\, Myrtle Beach\, SC\, United States
END:VEVENT
BEGIN:VEVENT
DTSTART;TZID=UTC:20250805T083000
DTEND;TZID=UTC:20250805T083000
DTSTAMP:20260423T211953
CREATED:20250328T174542Z
LAST-MODIFIED:20250330T183000Z
UID:2871-1754382600-1754382600@grandstrandmga.org
SUMMARY:Plant Problem Clinic
DESCRIPTION:
URL:https://grandstrandmga.org/event/plant-problem-clinic-116/
LOCATION:Surfside Farmers Market\, Surfside Dr &\, N Willow Dr\,\, Surfside Beach\, SC\, 29575\, United States
END:VEVENT
BEGIN:VEVENT
DTSTART;TZID=UTC:20250802T090000
DTEND;TZID=UTC:20250802T130000
DTSTAMP:20260423T211953
CREATED:20250328T174446Z
LAST-MODIFIED:20250328T174446Z
UID:2869-1754125200-1754139600@grandstrandmga.org
SUMMARY:Plant Problem Clinic
DESCRIPTION:
URL:https://grandstrandmga.org/event/plant-problem-clinic-115/
LOCATION:Georgetown Farmers Market\, 122 Screven Street\, Georgetown\, SC\, 29440\, United States
END:VEVENT
BEGIN:VEVENT
DTSTART;TZID=UTC:20250801T083000
DTEND;TZID=UTC:20250801T120000
DTSTAMP:20260423T211953
CREATED:20250328T174347Z
LAST-MODIFIED:20250328T174347Z
UID:2867-1754037000-1754049600@grandstrandmga.org
SUMMARY:Plant Problem Clinic
DESCRIPTION:
URL:https://grandstrandmga.org/event/plant-problem-clinic-114/
LOCATION:North Myrtle Beach Farmers Market\, 925 1st Ave. S\, North Myrtle Beach\, SC\, United States
END:VEVENT
BEGIN:VEVENT
DTSTART;TZID=UTC:20250724T120000
DTEND;TZID=UTC:20250724T160000
DTSTAMP:20260423T211953
CREATED:20250328T174202Z
LAST-MODIFIED:20250328T174202Z
UID:2865-1753358400-1753372800@grandstrandmga.org
SUMMARY:Plant Problem Clinic
DESCRIPTION:
URL:https://grandstrandmga.org/event/plant-problem-clinic-113/
LOCATION:Culinary Institute\, 920 Crabtree Lane\, Myrtle Beach\, SC\, United States
END:VEVENT
BEGIN:VEVENT
DTSTART;TZID=UTC:20250722T180000
DTEND;TZID=UTC:20250722T193000
DTSTAMP:20260423T211953
CREATED:20250329T000903Z
LAST-MODIFIED:20250329T000903Z
UID:2927-1753207200-1753212600@grandstrandmga.org
SUMMARY:GSMG Monthly Meeting
DESCRIPTION:
URL:https://grandstrandmga.org/event/gsmg-monthly-meeting-7/
LOCATION:Church of Christ Grand Strand\, 2212 Glenns Bay Road\, Surfside Beach\, SC\, United States
END:VEVENT
BEGIN:VEVENT
DTSTART;TZID=UTC:20250719T090000
DTEND;TZID=UTC:20250719T130000
DTSTAMP:20260423T211953
CREATED:20250328T173614Z
LAST-MODIFIED:20250328T173614Z
UID:2861-1752915600-1752930000@grandstrandmga.org
SUMMARY:Plant Problem Clinic
DESCRIPTION:
URL:https://grandstrandmga.org/event/plant-problem-clinic-111/
LOCATION:Georgetown Farmers Market\, 122 Screven Street\, Georgetown\, SC\, 29440\, United States
END:VEVENT
BEGIN:VEVENT
DTSTART;TZID=UTC:20250718T083000
DTEND;TZID=UTC:20250718T120000
DTSTAMP:20260423T211953
CREATED:20250328T173525Z
LAST-MODIFIED:20250328T173525Z
UID:2859-1752827400-1752840000@grandstrandmga.org
SUMMARY:Plant Problem Clinic
DESCRIPTION:
URL:https://grandstrandmga.org/event/plant-problem-clinic-110/
LOCATION:North Myrtle Beach Farmers Market\, 925 1st Ave. S\, North Myrtle Beach\, SC\, United States
END:VEVENT
BEGIN:VEVENT
DTSTART;TZID=UTC:20250715T083000
DTEND;TZID=UTC:20250715T123000
DTSTAMP:20260423T211953
CREATED:20250328T174104Z
LAST-MODIFIED:20250330T183115Z
UID:2863-1752568200-1752582600@grandstrandmga.org
SUMMARY:Plant Problem Clinic
DESCRIPTION:
URL:https://grandstrandmga.org/event/plant-problem-clinic-112/
LOCATION:Surfside Farmers Market\, Surfside Dr &\, N Willow Dr\,\, Surfside Beach\, SC\, 29575\, United States
END:VEVENT
BEGIN:VEVENT
DTSTART;TZID=UTC:20250710T120000
DTEND;TZID=UTC:20250710T160000
DTSTAMP:20260423T211953
CREATED:20250328T173407Z
LAST-MODIFIED:20250328T173407Z
UID:2857-1752148800-1752163200@grandstrandmga.org
SUMMARY:Plant Problem Clinic
DESCRIPTION:
URL:https://grandstrandmga.org/event/plant-problem-clinic-109/
LOCATION:Culinary Institute\, 920 Crabtree Lane\, Myrtle Beach\, SC\, United States
END:VEVENT
BEGIN:VEVENT
DTSTART;TZID=UTC:20250705T090000
DTEND;TZID=UTC:20250705T130000
DTSTAMP:20260423T211953
CREATED:20250328T173217Z
LAST-MODIFIED:20250328T173217Z
UID:2853-1751706000-1751720400@grandstrandmga.org
SUMMARY:Plant Problem Clinic
DESCRIPTION:
URL:https://grandstrandmga.org/event/plant-problem-clinic-107/
LOCATION:Georgetown Farmers Market\, 122 Screven Street\, Georgetown\, SC\, 29440\, United States
END:VEVENT
BEGIN:VEVENT
DTSTART;TZID=UTC:20250704T083000
DTEND;TZID=UTC:20250704T120000
DTSTAMP:20260423T211953
CREATED:20250328T173115Z
LAST-MODIFIED:20250328T173115Z
UID:2851-1751617800-1751630400@grandstrandmga.org
SUMMARY:Plant Problem Clinic
DESCRIPTION:
URL:https://grandstrandmga.org/event/plant-problem-clinic-106/
LOCATION:North Myrtle Beach Farmers Market\, 925 1st Ave. S\, North Myrtle Beach\, SC\, United States
END:VEVENT
BEGIN:VEVENT
DTSTART;TZID=UTC:20250701T083000
DTEND;TZID=UTC:20250701T123000
DTSTAMP:20260423T211953
CREATED:20250328T173309Z
LAST-MODIFIED:20250330T183200Z
UID:2855-1751358600-1751373000@grandstrandmga.org
SUMMARY:Plant Problem Clinic
DESCRIPTION:
URL:https://grandstrandmga.org/event/plant-problem-clinic-108/
LOCATION:Surfside Farmers Market\, Surfside Dr &\, N Willow Dr\,\, Surfside Beach\, SC\, 29575\, United States
END:VEVENT
BEGIN:VEVENT
DTSTART;TZID=UTC:20250626T120000
DTEND;TZID=UTC:20250626T160000
DTSTAMP:20260423T211953
CREATED:20250328T173004Z
LAST-MODIFIED:20250328T173004Z
UID:2849-1750939200-1750953600@grandstrandmga.org
SUMMARY:Plant Problem Clinic
DESCRIPTION:
URL:https://grandstrandmga.org/event/plant-problem-clinic-105/
LOCATION:Culinary Institute\, 920 Crabtree Lane\, Myrtle Beach\, SC\, United States
END:VEVENT
BEGIN:VEVENT
DTSTART;TZID=UTC:20250624T180000
DTEND;TZID=UTC:20250624T193000
DTSTAMP:20260423T211953
CREATED:20250328T170353Z
LAST-MODIFIED:20250328T170353Z
UID:2839-1750788000-1750793400@grandstrandmga.org
SUMMARY:GSMG Monthly Meeting
DESCRIPTION:
URL:https://grandstrandmga.org/event/gsmg-monthly-meeting-4/
LOCATION:Church of Christ Grand Strand\, 2212 Glenns Bay Road\, Surfside Beach\, SC\, United States
END:VEVENT
BEGIN:VEVENT
DTSTART;TZID=UTC:20250621T090000
DTEND;TZID=UTC:20250621T130000
DTSTAMP:20260423T211953
CREATED:20250328T170814Z
LAST-MODIFIED:20250328T170814Z
UID:2845-1750496400-1750510800@grandstrandmga.org
SUMMARY:Plant Problem Clinic
DESCRIPTION:
URL:https://grandstrandmga.org/event/plant-problem-clinic-103/
LOCATION:Georgetown Farmers Market\, 122 Screven Street\, Georgetown\, SC\, 29440\, United States
END:VEVENT
BEGIN:VEVENT
DTSTART;TZID=UTC:20250620T083000
DTEND;TZID=UTC:20250620T120000
DTSTAMP:20260423T211953
CREATED:20250328T170726Z
LAST-MODIFIED:20250328T170726Z
UID:2843-1750408200-1750420800@grandstrandmga.org
SUMMARY:Plant Problem Clinic
DESCRIPTION:
URL:https://grandstrandmga.org/event/plant-problem-clinic-102/
LOCATION:North Myrtle Beach Farmers Market\, 925 1st Ave. S\, North Myrtle Beach\, SC\, United States
END:VEVENT
BEGIN:VEVENT
DTSTART;TZID=UTC:20250617T083000
DTEND;TZID=UTC:20250617T123000
DTSTAMP:20260423T211953
CREATED:20250328T171446Z
LAST-MODIFIED:20250330T183306Z
UID:2847-1750149000-1750163400@grandstrandmga.org
SUMMARY:Plant Problem Clinic
DESCRIPTION:
URL:https://grandstrandmga.org/event/plant-problem-clinic-104/
LOCATION:Surfside Farmers Market\, Surfside Dr &\, N Willow Dr\,\, Surfside Beach\, SC\, 29575\, United States
END:VEVENT
BEGIN:VEVENT
DTSTART;TZID=UTC:20250612T120000
DTEND;TZID=UTC:20250612T160000
DTSTAMP:20260423T211953
CREATED:20250328T170557Z
LAST-MODIFIED:20250328T170557Z
UID:2841-1749729600-1749744000@grandstrandmga.org
SUMMARY:Plant Problem Clinic
DESCRIPTION:
URL:https://grandstrandmga.org/event/plant-problem-clinic-101/
LOCATION:Culinary Institute\, 920 Crabtree Lane\, Myrtle Beach\, SC\, United States
END:VEVENT
END:VCALENDAR