BEGIN:VCALENDAR
VERSION:2.0
PRODID:-//Grand Strand Master Gardeners Association - ECPv6.15.20//NONSGML v1.0//EN
CALSCALE:GREGORIAN
METHOD:PUBLISH
X-WR-CALNAME:Grand Strand Master Gardeners Association
X-ORIGINAL-URL:https://grandstrandmga.org
X-WR-CALDESC:Events for Grand Strand Master Gardeners Association
REFRESH-INTERVAL;VALUE=DURATION:PT1H
X-Robots-Tag:noindex
X-PUBLISHED-TTL:PT1H
BEGIN:VTIMEZONE
TZID:UTC
BEGIN:STANDARD
TZOFFSETFROM:+0000
TZOFFSETTO:+0000
TZNAME:UTC
DTSTART:20200101T000000
END:STANDARD
END:VTIMEZONE
BEGIN:VTIMEZONE
TZID:America/New_York
BEGIN:DAYLIGHT
TZOFFSETFROM:-0500
TZOFFSETTO:-0400
TZNAME:EDT
DTSTART:20200308T070000
END:DAYLIGHT
BEGIN:STANDARD
TZOFFSETFROM:-0400
TZOFFSETTO:-0500
TZNAME:EST
DTSTART:20201101T060000
END:STANDARD
BEGIN:DAYLIGHT
TZOFFSETFROM:-0500
TZOFFSETTO:-0400
TZNAME:EDT
DTSTART:20210314T070000
END:DAYLIGHT
BEGIN:STANDARD
TZOFFSETFROM:-0400
TZOFFSETTO:-0500
TZNAME:EST
DTSTART:20211107T060000
END:STANDARD
BEGIN:DAYLIGHT
TZOFFSETFROM:-0500
TZOFFSETTO:-0400
TZNAME:EDT
DTSTART:20220313T070000
END:DAYLIGHT
BEGIN:STANDARD
TZOFFSETFROM:-0400
TZOFFSETTO:-0500
TZNAME:EST
DTSTART:20221106T060000
END:STANDARD
END:VTIMEZONE
BEGIN:VEVENT
DTSTART;TZID=UTC:20210727T100000
DTEND;TZID=UTC:20210727T150000
DTSTAMP:20260424T224655
CREATED:20210721T151102Z
LAST-MODIFIED:20210721T151102Z
UID:1542-1627380000-1627398000@grandstrandmga.org
SUMMARY:Problem Plant Clinic
DESCRIPTION:
URL:https://grandstrandmga.org/event/problem-plant-clinic-3/
LOCATION:Surfside Farmers Market\, Surfside Dr &\, N Willow Dr\,\, Surfside Beach\, SC\, 29575\, United States
END:VEVENT
BEGIN:VEVENT
DTSTART;TZID=America/New_York:20210724T080000
DTEND;TZID=America/New_York:20210724T130000
DTSTAMP:20260424T224655
CREATED:20210721T144911Z
LAST-MODIFIED:20210721T145053Z
UID:1554-1627113600-1627131600@grandstrandmga.org
SUMMARY:Problem Plant Clinic
DESCRIPTION:
URL:https://grandstrandmga.org/event/problem-plant-clinic-2/
LOCATION:Georgetown Farmers Market\, 122 Screven Street\, Georgetown\, SC\, 29440\, United States
END:VEVENT
BEGIN:VEVENT
DTSTART;TZID=UTC:20210722T100000
DTEND;TZID=UTC:20210722T130000
DTSTAMP:20260424T224655
CREATED:20210721T141705Z
LAST-MODIFIED:20210721T150729Z
UID:1546-1626948000-1626958800@grandstrandmga.org
SUMMARY:Problem Plant Clinic
DESCRIPTION:
URL:https://grandstrandmga.org/event/problem-plant-clinic/
LOCATION:Inlet Square Mall\, 12125 US Highway 17 Bypass South\, Murrells Inlet\, SC\, 29576\, United States
END:VEVENT
END:VCALENDAR