BEGIN:VCALENDAR
VERSION:2.0
PRODID:-//Grand Strand Master Gardeners Association - ECPv6.15.20//NONSGML v1.0//EN
CALSCALE:GREGORIAN
METHOD:PUBLISH
X-WR-CALNAME:Grand Strand Master Gardeners Association
X-ORIGINAL-URL:https://grandstrandmga.org
X-WR-CALDESC:Events for Grand Strand Master Gardeners Association
REFRESH-INTERVAL;VALUE=DURATION:PT1H
X-Robots-Tag:noindex
X-PUBLISHED-TTL:PT1H
BEGIN:VTIMEZONE
TZID:UTC
BEGIN:STANDARD
TZOFFSETFROM:+0000
TZOFFSETTO:+0000
TZNAME:UTC
DTSTART:20210101T000000
END:STANDARD
END:VTIMEZONE
BEGIN:VEVENT
DTSTART;TZID=UTC:20220913T100000
DTEND;TZID=UTC:20220913T140000
DTSTAMP:20260424T162314
CREATED:20220815T203907Z
LAST-MODIFIED:20220815T203907Z
UID:2080-1663063200-1663077600@grandstrandmga.org
SUMMARY:Plant Problem Clinic
DESCRIPTION:
URL:https://grandstrandmga.org/event/plant-problem-clinic-27/
LOCATION:Surfside Farmers Market\, Surfside Dr &\, N Willow Dr\,\, Surfside Beach\, SC\, 29575\, United States
END:VEVENT
BEGIN:VEVENT
DTSTART;TZID=UTC:20220910T100000
DTEND;TZID=UTC:20220910T130000
DTSTAMP:20260424T162314
CREATED:20220815T203839Z
LAST-MODIFIED:20220815T203839Z
UID:2078-1662804000-1662814800@grandstrandmga.org
SUMMARY:Plant Problem Clinic
DESCRIPTION:
URL:https://grandstrandmga.org/event/plant-problem-clinic-26/
LOCATION:Georgetown Farmers Market\, 122 Screven Street\, Georgetown\, SC\, 29440\, United States
END:VEVENT
BEGIN:VEVENT
DTSTART;TZID=UTC:20220908T130000
DTEND;TZID=UTC:20220908T150000
DTSTAMP:20260424T162314
CREATED:20220815T203600Z
LAST-MODIFIED:20220815T203600Z
UID:2074-1662642000-1662649200@grandstrandmga.org
SUMMARY:Plant Problem Clinic
DESCRIPTION:
URL:https://grandstrandmga.org/event/plant-problem-clinic-16/
LOCATION:Inlet Square Mall\, 12125 US Highway 17 Bypass South\, Murrells Inlet\, SC\, 29576\, United States
END:VEVENT
BEGIN:VEVENT
DTSTART;TZID=UTC:20220906T100000
DTEND;TZID=UTC:20220906T140000
DTSTAMP:20260424T162314
CREATED:20220815T203805Z
LAST-MODIFIED:20220815T203805Z
UID:2076-1662458400-1662472800@grandstrandmga.org
SUMMARY:Plant Problem Clinic
DESCRIPTION:
URL:https://grandstrandmga.org/event/plant-problem-clinic-25/
LOCATION:Surfside Farmers Market\, Surfside Dr &\, N Willow Dr\,\, Surfside Beach\, SC\, 29575\, United States
END:VEVENT
BEGIN:VEVENT
DTSTART;TZID=UTC:20220903T100000
DTEND;TZID=UTC:20220903T130000
DTSTAMP:20260424T162314
CREATED:20220815T202637Z
LAST-MODIFIED:20220815T202637Z
UID:2072-1662199200-1662210000@grandstrandmga.org
SUMMARY:Plant Problem Clinic
DESCRIPTION:
URL:https://grandstrandmga.org/event/plant-problem-clinic-24/
LOCATION:Georgetown Farmers Market\, 122 Screven Street\, Georgetown\, SC\, 29440\, United States
END:VEVENT
BEGIN:VEVENT
DTSTART;TZID=UTC:20220901T130000
DTEND;TZID=UTC:20220901T150000
DTSTAMP:20260424T162314
CREATED:20220815T202553Z
LAST-MODIFIED:20220815T202553Z
UID:2070-1662037200-1662044400@grandstrandmga.org
SUMMARY:Plant Problem Clinic
DESCRIPTION:
URL:https://grandstrandmga.org/event/plant-problem-clinic-22/
LOCATION:Inlet Square Mall\, 12125 US Highway 17 Bypass South\, Murrells Inlet\, SC\, 29576\, United States
END:VEVENT
BEGIN:VEVENT
DTSTART;TZID=UTC:20220830T100000
DTEND;TZID=UTC:20220830T140000
DTSTAMP:20260424T162314
CREATED:20220815T202247Z
LAST-MODIFIED:20220815T202910Z
UID:2068-1661853600-1661868000@grandstrandmga.org
SUMMARY:Plant Problem Clinic
DESCRIPTION:
URL:https://grandstrandmga.org/event/plant-problem-clinic-23/
LOCATION:Surfside Farmers Market\, Surfside Dr &\, N Willow Dr\,\, Surfside Beach\, SC\, 29575\, United States
END:VEVENT
BEGIN:VEVENT
DTSTART;TZID=UTC:20220827T100000
DTEND;TZID=UTC:20220827T130000
DTSTAMP:20260424T162314
CREATED:20220815T201937Z
LAST-MODIFIED:20220815T201937Z
UID:2062-1661594400-1661605200@grandstrandmga.org
SUMMARY:Plant Problem Clinic
DESCRIPTION:
URL:https://grandstrandmga.org/event/plant-problem-clinic-20/
LOCATION:Georgetown Farmers Market\, 122 Screven Street\, Georgetown\, SC\, 29440\, United States
END:VEVENT
BEGIN:VEVENT
DTSTART;TZID=UTC:20220825T130000
DTEND;TZID=UTC:20220825T150000
DTSTAMP:20260424T162314
CREATED:20220815T202117Z
LAST-MODIFIED:20220815T202117Z
UID:2064-1661432400-1661439600@grandstrandmga.org
SUMMARY:Plant Problem Clinic
DESCRIPTION:
URL:https://grandstrandmga.org/event/plant-problem-clinic-21/
LOCATION:Inlet Square Mall\, 12125 US Highway 17 Bypass South\, Murrells Inlet\, SC\, 29576\, United States
END:VEVENT
BEGIN:VEVENT
DTSTART;TZID=UTC:20220823T100000
DTEND;TZID=UTC:20220823T140000
DTSTAMP:20260424T162314
CREATED:20220815T201402Z
LAST-MODIFIED:20220815T201806Z
UID:2058-1661248800-1661263200@grandstrandmga.org
SUMMARY:Plant Problem Clinic
DESCRIPTION:
URL:https://grandstrandmga.org/event/plant-problem-clinic-18/
LOCATION:Surfside Farmers Market\, Surfside Dr &\, N Willow Dr\,\, Surfside Beach\, SC\, 29575\, United States
END:VEVENT
BEGIN:VEVENT
DTSTART;TZID=UTC:20220820T100000
DTEND;TZID=UTC:20220820T130000
DTSTAMP:20260424T162314
CREATED:20220815T201315Z
LAST-MODIFIED:20220815T201315Z
UID:2056-1660989600-1661000400@grandstrandmga.org
SUMMARY:Plant Problem Clinic
DESCRIPTION:
URL:https://grandstrandmga.org/event/plant-problem-clinic-17/
LOCATION:Georgetown Farmers Market\, 122 Screven Street\, Georgetown\, SC\, 29440\, United States
END:VEVENT
BEGIN:VEVENT
DTSTART;TZID=UTC:20220818T130000
DTEND;TZID=UTC:20220818T150000
DTSTAMP:20260424T162314
CREATED:20220815T201858Z
LAST-MODIFIED:20220815T201858Z
UID:2060-1660827600-1660834800@grandstrandmga.org
SUMMARY:Plant Problem Clinic
DESCRIPTION:
URL:https://grandstrandmga.org/event/plant-problem-clinic-19/
LOCATION:Inlet Square Mall\, 12125 US Highway 17 Bypass South\, Murrells Inlet\, SC\, 29576\, United States
END:VEVENT
BEGIN:VEVENT
DTSTART;TZID=UTC:20220816T100000
DTEND;TZID=UTC:20220816T140000
DTSTAMP:20260424T162314
CREATED:20220815T201028Z
LAST-MODIFIED:20220815T202800Z
UID:2052-1660644000-1660658400@grandstrandmga.org
SUMMARY:Plant Problem Clinic
DESCRIPTION:
URL:https://grandstrandmga.org/event/plant-problem-clinic-15/
LOCATION:Surfside Farmers Market\, Surfside Dr &\, N Willow Dr\,\, Surfside Beach\, SC\, 29575\, United States
END:VEVENT
BEGIN:VEVENT
DTSTART;TZID=UTC:20220726T183000
DTEND;TZID=UTC:20220726T200000
DTSTAMP:20260424T162314
CREATED:20220627T152355Z
LAST-MODIFIED:20220627T152355Z
UID:2003-1658860200-1658865600@grandstrandmga.org
SUMMARY:GSMGA Meeting
DESCRIPTION:
URL:https://grandstrandmga.org/event/gsmga-meeting-7/
LOCATION:Church of Christ Grand Strand\, 2212 Glenns Bay Road\, Surfside Beach\, SC\, United States
END:VEVENT
BEGIN:VEVENT
DTSTART;TZID=UTC:20220723T100000
DTEND;TZID=UTC:20220723T130000
DTSTAMP:20260424T162314
CREATED:20220629T021527Z
LAST-MODIFIED:20220629T021527Z
UID:2036-1658570400-1658581200@grandstrandmga.org
SUMMARY:Plant Problem Clinic
DESCRIPTION:
URL:https://grandstrandmga.org/event/plant-problem-clinic-14/
LOCATION:Georgetown Farmers Market\, 122 Screven Street\, Georgetown\, SC\, 29440\, United States
END:VEVENT
BEGIN:VEVENT
DTSTART;TZID=UTC:20220716T100000
DTEND;TZID=UTC:20220716T130000
DTSTAMP:20260424T162314
CREATED:20220629T021343Z
LAST-MODIFIED:20220629T021343Z
UID:2034-1657965600-1657976400@grandstrandmga.org
SUMMARY:Plant Problem Clinic
DESCRIPTION:
URL:https://grandstrandmga.org/event/plant-problem-clinic-13/
LOCATION:Georgetown Farmers Market\, 122 Screven Street\, Georgetown\, SC\, 29440\, United States
END:VEVENT
BEGIN:VEVENT
DTSTART;TZID=UTC:20220714T130000
DTEND;TZID=UTC:20220714T150000
DTSTAMP:20260424T162314
CREATED:20220627T153802Z
LAST-MODIFIED:20220627T153802Z
UID:2019-1657803600-1657810800@grandstrandmga.org
SUMMARY:Plant Problem Clinic
DESCRIPTION:
URL:https://grandstrandmga.org/event/plant-problem-clinic-9/
LOCATION:Inlet Square Mall\, 12125 US Highway 17 Bypass South\, Murrells Inlet\, SC\, 29576\, United States
END:VEVENT
BEGIN:VEVENT
DTSTART;TZID=UTC:20220712T100000
DTEND;TZID=UTC:20220712T140000
DTSTAMP:20260424T162314
CREATED:20220627T154024Z
LAST-MODIFIED:20220627T154024Z
UID:2021-1657620000-1657634400@grandstrandmga.org
SUMMARY:Plant Problem Clinic
DESCRIPTION:
URL:https://grandstrandmga.org/event/plant-problem-clinic-10/
LOCATION:Surfside Farmers Market\, Surfside Dr &\, N Willow Dr\,\, Surfside Beach\, SC\, 29575\, United States
END:VEVENT
BEGIN:VEVENT
DTSTART;TZID=UTC:20220709T100000
DTEND;TZID=UTC:20220709T130000
DTSTAMP:20260424T162314
CREATED:20220629T021140Z
LAST-MODIFIED:20220629T021140Z
UID:2030-1657360800-1657371600@grandstrandmga.org
SUMMARY:Plant Problem Clinic
DESCRIPTION:
URL:https://grandstrandmga.org/event/plant-problem-clinic-11/
LOCATION:Georgetown Farmers Market\, 122 Screven Street\, Georgetown\, SC\, 29440\, United States
END:VEVENT
BEGIN:VEVENT
DTSTART;TZID=UTC:20220707T130000
DTEND;TZID=UTC:20220707T150000
DTSTAMP:20260424T162314
CREATED:20220627T153530Z
LAST-MODIFIED:20220627T153530Z
UID:2017-1657198800-1657206000@grandstrandmga.org
SUMMARY:Plant Problem Clinic
DESCRIPTION:
URL:https://grandstrandmga.org/event/plant-problem-clinic-8/
LOCATION:Inlet Square Mall\, 12125 US Highway 17 Bypass South\, Murrells Inlet\, SC\, 29576\, United States
END:VEVENT
BEGIN:VEVENT
DTSTART;TZID=UTC:20220705T100000
DTEND;TZID=UTC:20220705T130000
DTSTAMP:20260424T162314
CREATED:20220627T153207Z
LAST-MODIFIED:20220629T021842Z
UID:2013-1657015200-1657026000@grandstrandmga.org
SUMMARY:Plant Problem Clinic
DESCRIPTION:
URL:https://grandstrandmga.org/event/plant-problem-clinic-6/
LOCATION:Surfside Farmers Market\, Surfside Dr &\, N Willow Dr\,\, Surfside Beach\, SC\, 29575\, United States
END:VEVENT
BEGIN:VEVENT
DTSTART;TZID=UTC:20220702T100000
DTEND;TZID=UTC:20220702T130000
DTSTAMP:20260424T162314
CREATED:20220629T021302Z
LAST-MODIFIED:20220629T021302Z
UID:2029-1656756000-1656766800@grandstrandmga.org
SUMMARY:Plant Problem Clinic
DESCRIPTION:
URL:https://grandstrandmga.org/event/plant-problem-clinic-12/
LOCATION:Georgetown Farmers Market\, 122 Screven Street\, Georgetown\, SC\, 29440\, United States
END:VEVENT
BEGIN:VEVENT
DTSTART;TZID=UTC:20220630T130000
DTEND;TZID=UTC:20220630T150000
DTSTAMP:20260424T162314
CREATED:20220627T153429Z
LAST-MODIFIED:20220627T153429Z
UID:2015-1656594000-1656601200@grandstrandmga.org
SUMMARY:Plant Problem Clinic
DESCRIPTION:
URL:https://grandstrandmga.org/event/plant-problem-clinic-7/
LOCATION:Inlet Square Mall\, 12125 US Highway 17 Bypass South\, Murrells Inlet\, SC\, 29576\, United States
END:VEVENT
BEGIN:VEVENT
DTSTART;TZID=UTC:20220628T183000
DTEND;TZID=UTC:20220628T200000
DTSTAMP:20260424T162314
CREATED:20220627T152305Z
LAST-MODIFIED:20220627T152305Z
UID:2001-1656441000-1656446400@grandstrandmga.org
SUMMARY:GSGMA Meeting
DESCRIPTION:
URL:https://grandstrandmga.org/event/gsgma-meeting/
LOCATION:Church of Christ Grand Strand\, 2212 Glenns Bay Road\, Surfside Beach\, SC\, United States
END:VEVENT
BEGIN:VEVENT
DTSTART;TZID=UTC:20220628T100000
DTEND;TZID=UTC:20220628T140000
DTSTAMP:20260424T162314
CREATED:20220627T152756Z
LAST-MODIFIED:20220627T152756Z
UID:2011-1656410400-1656424800@grandstrandmga.org
SUMMARY:Plant Problem Clinic
DESCRIPTION:
URL:https://grandstrandmga.org/event/plant-problem-clinic-5/
LOCATION:Surfside Farmers Market\, Surfside Dr &\, N Willow Dr\,\, Surfside Beach\, SC\, 29575\, United States
END:VEVENT
BEGIN:VEVENT
DTSTART;TZID=UTC:20220614T100000
DTEND;TZID=UTC:20220614T140000
DTSTAMP:20260424T162314
CREATED:20220601T000521Z
LAST-MODIFIED:20220601T000521Z
UID:1997-1655200800-1655215200@grandstrandmga.org
SUMMARY:Plant Problem Clinic
DESCRIPTION:
URL:https://grandstrandmga.org/event/plant-problem-clinic-4/
LOCATION:Surfside Farmers Market\, Surfside Dr &\, N Willow Dr\,\, Surfside Beach\, SC\, 29575\, United States
END:VEVENT
BEGIN:VEVENT
DTSTART;TZID=UTC:20220609T130000
DTEND;TZID=UTC:20220609T150000
DTSTAMP:20260424T162314
CREATED:20220601T000419Z
LAST-MODIFIED:20220601T000419Z
UID:1995-1654779600-1654786800@grandstrandmga.org
SUMMARY:Plant Problem Clinic
DESCRIPTION:
URL:https://grandstrandmga.org/event/plant-problem-clinic-3/
LOCATION:Inlet Square Mall\, 12125 US Highway 17 Bypass South\, Murrells Inlet\, SC\, 29576\, United States
END:VEVENT
BEGIN:VEVENT
DTSTART;TZID=UTC:20220607T100000
DTEND;TZID=UTC:20220607T140000
DTSTAMP:20260424T162314
CREATED:20220601T000044Z
LAST-MODIFIED:20220601T000044Z
UID:1989-1654596000-1654610400@grandstrandmga.org
SUMMARY:Plant Problem Clinic
DESCRIPTION:
URL:https://grandstrandmga.org/event/plant-problem-clinic/
LOCATION:Surfside Farmers Market\, Surfside Dr &\, N Willow Dr\,\, Surfside Beach\, SC\, 29575\, United States
END:VEVENT
BEGIN:VEVENT
DTSTART;TZID=UTC:20220602T130000
DTEND;TZID=UTC:20220602T150000
DTSTAMP:20260424T162314
CREATED:20220601T000153Z
LAST-MODIFIED:20220601T000153Z
UID:1992-1654174800-1654182000@grandstrandmga.org
SUMMARY:Plant Problem Clinic
DESCRIPTION:
URL:https://grandstrandmga.org/event/plant-problem-clinic-2/
LOCATION:Inlet Square Mall\, 12125 US Highway 17 Bypass South\, Murrells Inlet\, SC\, 29576\, United States
END:VEVENT
BEGIN:VEVENT
DTSTART;TZID=UTC:20220426T183000
DTEND;TZID=UTC:20220426T200000
DTSTAMP:20260424T162314
CREATED:20220214T220019Z
LAST-MODIFIED:20220214T220019Z
UID:1932-1650997800-1651003200@grandstrandmga.org
SUMMARY:GSMGA Meeting
DESCRIPTION:
URL:https://grandstrandmga.org/event/gsmga-meeting-6/
LOCATION:Church of Christ Grand Strand\, 2212 Glenns Bay Road\, Surfside Beach\, SC\, United States
END:VEVENT
END:VCALENDAR