BEGIN:VCALENDAR
VERSION:2.0
PRODID:-//Grand Strand Master Gardeners Association - ECPv6.15.20//NONSGML v1.0//EN
CALSCALE:GREGORIAN
METHOD:PUBLISH
X-WR-CALNAME:Grand Strand Master Gardeners Association
X-ORIGINAL-URL:https://grandstrandmga.org
X-WR-CALDESC:Events for Grand Strand Master Gardeners Association
REFRESH-INTERVAL;VALUE=DURATION:PT1H
X-Robots-Tag:noindex
X-PUBLISHED-TTL:PT1H
BEGIN:VTIMEZONE
TZID:UTC
BEGIN:STANDARD
TZOFFSETFROM:+0000
TZOFFSETTO:+0000
TZNAME:UTC
DTSTART:20210101T000000
END:STANDARD
END:VTIMEZONE
BEGIN:VEVENT
DTSTART;TZID=UTC:20230523T183000
DTEND;TZID=UTC:20230523T200000
DTSTAMP:20260424T092512
CREATED:20230318T214019Z
LAST-MODIFIED:20230318T214019Z
UID:2139-1684866600-1684872000@grandstrandmga.org
SUMMARY:GSMGA Monthly Meeting
DESCRIPTION:
URL:https://grandstrandmga.org/event/gsmga-monthly-meeting-5/
LOCATION:Church of Christ Grand Strand\, 2212 Glenns Bay Road\, Surfside Beach\, SC\, United States
END:VEVENT
BEGIN:VEVENT
DTSTART;TZID=UTC:20230523T100000
DTEND;TZID=UTC:20230523T140000
DTSTAMP:20260424T092512
CREATED:20230501T171226Z
LAST-MODIFIED:20230501T171226Z
UID:2163-1684836000-1684850400@grandstrandmga.org
SUMMARY:Plant Problem Clinic
DESCRIPTION:
URL:https://grandstrandmga.org/event/plant-problem-clinic-47/
LOCATION:Surfside Farmers Market\, Surfside Dr &\, N Willow Dr\,\, Surfside Beach\, SC\, 29575\, United States
END:VEVENT
BEGIN:VEVENT
DTSTART;TZID=UTC:20230520T100000
DTEND;TZID=UTC:20230520T130000
DTSTAMP:20260424T092512
CREATED:20230501T171901Z
LAST-MODIFIED:20230501T171901Z
UID:2177-1684576800-1684587600@grandstrandmga.org
SUMMARY:Plant Problem Clinic
DESCRIPTION:
URL:https://grandstrandmga.org/event/plant-problem-clinic-54/
LOCATION:Georgetown Farmers Market\, 122 Screven Street\, Georgetown\, SC\, 29440\, United States
END:VEVENT
BEGIN:VEVENT
DTSTART;TZID=UTC:20230518T100000
DTEND;TZID=UTC:20230518T143000
DTSTAMP:20260424T092512
CREATED:20230501T171536Z
LAST-MODIFIED:20230501T171536Z
UID:2171-1684404000-1684420200@grandstrandmga.org
SUMMARY:Plant Problem Clinic
DESCRIPTION:
URL:https://grandstrandmga.org/event/plant-problem-clinic-51/
LOCATION:Inlet Square Mall\, 12125 US Highway 17 Bypass South\, Murrells Inlet\, SC\, 29576\, United States
END:VEVENT
BEGIN:VEVENT
DTSTART;TZID=UTC:20230516T100000
DTEND;TZID=UTC:20230516T140000
DTSTAMP:20260424T092512
CREATED:20230501T171148Z
LAST-MODIFIED:20230501T171148Z
UID:2161-1684231200-1684245600@grandstrandmga.org
SUMMARY:Plant Problem Clinic
DESCRIPTION:
URL:https://grandstrandmga.org/event/plant-problem-clinic-46/
LOCATION:Surfside Farmers Market\, Surfside Dr &\, N Willow Dr\,\, Surfside Beach\, SC\, 29575\, United States
END:VEVENT
BEGIN:VEVENT
DTSTART;TZID=UTC:20230513T100000
DTEND;TZID=UTC:20230513T130000
DTSTAMP:20260424T092512
CREATED:20230501T171758Z
LAST-MODIFIED:20230501T171758Z
UID:2175-1683972000-1683982800@grandstrandmga.org
SUMMARY:Plant Problem Clinic
DESCRIPTION:
URL:https://grandstrandmga.org/event/plant-problem-clinic-53/
LOCATION:Georgetown Farmers Market\, 122 Screven Street\, Georgetown\, SC\, 29440\, United States
END:VEVENT
BEGIN:VEVENT
DTSTART;TZID=UTC:20230511T100000
DTEND;TZID=UTC:20230511T123000
DTSTAMP:20260424T092512
CREATED:20230501T171448Z
LAST-MODIFIED:20230501T171448Z
UID:2169-1683799200-1683808200@grandstrandmga.org
SUMMARY:Plant Problem Clinic
DESCRIPTION:
URL:https://grandstrandmga.org/event/plant-problem-clinic-50/
LOCATION:Inlet Square Mall\, 12125 US Highway 17 Bypass South\, Murrells Inlet\, SC\, 29576\, United States
END:VEVENT
BEGIN:VEVENT
DTSTART;TZID=UTC:20230509T100000
DTEND;TZID=UTC:20230509T140000
DTSTAMP:20260424T092512
CREATED:20230501T171107Z
LAST-MODIFIED:20230501T171107Z
UID:2159-1683626400-1683640800@grandstrandmga.org
SUMMARY:Plant Problem Clinic
DESCRIPTION:
URL:https://grandstrandmga.org/event/plant-problem-clinic-45/
LOCATION:Surfside Farmers Market\, Surfside Dr &\, N Willow Dr\,\, Surfside Beach\, SC\, 29575\, United States
END:VEVENT
BEGIN:VEVENT
DTSTART;TZID=UTC:20230506T100000
DTEND;TZID=UTC:20230506T130000
DTSTAMP:20260424T092512
CREATED:20230318T214210Z
LAST-MODIFIED:20230318T214210Z
UID:2141-1683367200-1683378000@grandstrandmga.org
SUMMARY:Plant Problem Clinic
DESCRIPTION:
URL:https://grandstrandmga.org/event/plant-problem-clinic-39/
LOCATION:Georgetown Farmers Market\, 122 Screven Street\, Georgetown\, SC\, 29440\, United States
END:VEVENT
BEGIN:VEVENT
DTSTART;TZID=UTC:20230504T100000
DTEND;TZID=UTC:20230504T123000
DTSTAMP:20260424T092512
CREATED:20230501T171404Z
LAST-MODIFIED:20230501T171404Z
UID:2167-1683194400-1683203400@grandstrandmga.org
SUMMARY:Plant Problem Clinic
DESCRIPTION:
URL:https://grandstrandmga.org/event/plant-problem-clinic-49/
LOCATION:Inlet Square Mall\, 12125 US Highway 17 Bypass South\, Murrells Inlet\, SC\, 29576\, United States
END:VEVENT
BEGIN:VEVENT
DTSTART;TZID=UTC:20230502T100000
DTEND;TZID=UTC:20230502T140000
DTSTAMP:20260424T092512
CREATED:20230501T171025Z
LAST-MODIFIED:20230501T171025Z
UID:2157-1683021600-1683036000@grandstrandmga.org
SUMMARY:Plant Problem Clinic
DESCRIPTION:
URL:https://grandstrandmga.org/event/plant-problem-clinic-44/
LOCATION:Surfside Farmers Market\, Surfside Dr &\, N Willow Dr\,\, Surfside Beach\, SC\, 29575\, United States
END:VEVENT
BEGIN:VEVENT
DTSTART;TZID=UTC:20230427T100000
DTEND;TZID=UTC:20230427T123000
DTSTAMP:20260424T092512
CREATED:20230320T193344Z
LAST-MODIFIED:20230320T193344Z
UID:2149-1682589600-1682598600@grandstrandmga.org
SUMMARY:Plant Problem Clinic
DESCRIPTION:
URL:https://grandstrandmga.org/event/plant-problem-clinic-43/
LOCATION:Inlet Square Mall\, 12125 US Highway 17 Bypass South\, Murrells Inlet\, SC\, 29576\, United States
END:VEVENT
BEGIN:VEVENT
DTSTART;TZID=UTC:20230425T183000
DTEND;TZID=UTC:20230425T200000
DTSTAMP:20260424T092512
CREATED:20230318T213932Z
LAST-MODIFIED:20230318T213932Z
UID:2137-1682447400-1682452800@grandstrandmga.org
SUMMARY:GSMGA Monthly Meeting
DESCRIPTION:
URL:https://grandstrandmga.org/event/gsmga-monthly-meeting-4/
LOCATION:Church of Christ Grand Strand\, 2212 Glenns Bay Road\, Surfside Beach\, SC\, United States
END:VEVENT
BEGIN:VEVENT
DTSTART;TZID=UTC:20230425T100000
DTEND;TZID=UTC:20230425T140000
DTSTAMP:20260424T092512
CREATED:20230318T211953Z
LAST-MODIFIED:20230318T211953Z
UID:2135-1682416800-1682431200@grandstrandmga.org
SUMMARY:Plant Problem Clinic
DESCRIPTION:
URL:https://grandstrandmga.org/event/plant-problem-clinic-38/
LOCATION:Surfside Farmers Market\, Surfside Dr &\, N Willow Dr\,\, Surfside Beach\, SC\, 29575\, United States
END:VEVENT
BEGIN:VEVENT
DTSTART;TZID=UTC:20230422T100000
DTEND;TZID=UTC:20230422T160000
DTSTAMP:20260424T092512
CREATED:20230326T220409Z
LAST-MODIFIED:20230326T220409Z
UID:2152-1682157600-1682179200@grandstrandmga.org
SUMMARY:GSMGA Annual Plant Sale
DESCRIPTION:
URL:https://grandstrandmga.org/event/gsmga-annual-plant-sale/
LOCATION:CHRSC Community Garden\, Petigru Drive\, Pawleys Island\, SC\, 29585\, United States
END:VEVENT
BEGIN:VEVENT
DTSTART;TZID=UTC:20230420T100000
DTEND;TZID=UTC:20230420T123000
DTSTAMP:20260424T092512
CREATED:20230320T193241Z
LAST-MODIFIED:20230320T193241Z
UID:2147-1681984800-1681993800@grandstrandmga.org
SUMMARY:Plant Problem Clinic
DESCRIPTION:
URL:https://grandstrandmga.org/event/plant-problem-clinic-42/
LOCATION:Inlet Square Mall\, 12125 US Highway 17 Bypass South\, Murrells Inlet\, SC\, 29576\, United States
END:VEVENT
BEGIN:VEVENT
DTSTART;TZID=UTC:20230418T100000
DTEND;TZID=UTC:20230418T140000
DTSTAMP:20260424T092512
CREATED:20230318T211845Z
LAST-MODIFIED:20230318T211845Z
UID:2133-1681812000-1681826400@grandstrandmga.org
SUMMARY:Plant Problem Clinic
DESCRIPTION:
URL:https://grandstrandmga.org/event/plant-problem-clinic-37/
LOCATION:Surfside Farmers Market\, Surfside Dr &\, N Willow Dr\,\, Surfside Beach\, SC\, 29575\, United States
END:VEVENT
BEGIN:VEVENT
DTSTART;TZID=UTC:20230413T100000
DTEND;TZID=UTC:20230413T123000
DTSTAMP:20260424T092512
CREATED:20230320T193037Z
LAST-MODIFIED:20230320T193037Z
UID:2145-1681380000-1681389000@grandstrandmga.org
SUMMARY:Plant Problem Clinic
DESCRIPTION:
URL:https://grandstrandmga.org/event/plant-problem-clinic-41/
LOCATION:Inlet Square Mall\, 12125 US Highway 17 Bypass South\, Murrells Inlet\, SC\, 29576\, United States
END:VEVENT
BEGIN:VEVENT
DTSTART;TZID=UTC:20230411T100000
DTEND;TZID=UTC:20230411T140000
DTSTAMP:20260424T092512
CREATED:20230318T211758Z
LAST-MODIFIED:20230318T211758Z
UID:2131-1681207200-1681221600@grandstrandmga.org
SUMMARY:Plant Problem Clinic
DESCRIPTION:
URL:https://grandstrandmga.org/event/plant-problem-clinic-36/
LOCATION:Surfside Farmers Market\, Surfside Dr &\, N Willow Dr\,\, Surfside Beach\, SC\, 29575\, United States
END:VEVENT
BEGIN:VEVENT
DTSTART;TZID=UTC:20230406T100000
DTEND;TZID=UTC:20230406T123000
DTSTAMP:20260424T092512
CREATED:20230320T193004Z
LAST-MODIFIED:20230320T193004Z
UID:2143-1680775200-1680784200@grandstrandmga.org
SUMMARY:Plant Problem Clinic
DESCRIPTION:
URL:https://grandstrandmga.org/event/plant-problem-clinic-40/
LOCATION:Inlet Square Mall\, 12125 US Highway 17 Bypass South\, Murrells Inlet\, SC\, 29576\, United States
END:VEVENT
BEGIN:VEVENT
DTSTART;TZID=UTC:20230404T100000
DTEND;TZID=UTC:20230404T140000
DTSTAMP:20260424T092512
CREATED:20230318T211300Z
LAST-MODIFIED:20230318T213842Z
UID:2129-1680602400-1680616800@grandstrandmga.org
SUMMARY:Plant Problem Clinic
DESCRIPTION:
URL:https://grandstrandmga.org/event/plant-problem-clinic-35/
LOCATION:Surfside Farmers Market\, Surfside Dr &\, N Willow Dr\,\, Surfside Beach\, SC\, 29575\, United States
END:VEVENT
BEGIN:VEVENT
DTSTART;TZID=UTC:20230328T183000
DTEND;TZID=UTC:20230328T200000
DTSTAMP:20260424T092512
CREATED:20230109T214035Z
LAST-MODIFIED:20230109T214035Z
UID:2108-1680028200-1680033600@grandstrandmga.org
SUMMARY:GSMGA Monthly Meeting
DESCRIPTION:
URL:https://grandstrandmga.org/event/gsmga-monthly-meeting-3/
LOCATION:Church of Christ Grand Strand\, 2212 Glenns Bay Road\, Surfside Beach\, SC\, United States
END:VEVENT
BEGIN:VEVENT
DTSTART;TZID=UTC:20230228T183000
DTEND;TZID=UTC:20230228T200000
DTSTAMP:20260424T092512
CREATED:20230109T213940Z
LAST-MODIFIED:20230109T213940Z
UID:2106-1677609000-1677614400@grandstrandmga.org
SUMMARY:GSMGA Monthly Meeting
DESCRIPTION:
URL:https://grandstrandmga.org/event/gsmga-monthly-meeting-2/
LOCATION:CHRSC Community Garden\, Petigru Drive\, Pawleys Island\, SC\, 29585\, United States
END:VEVENT
BEGIN:VEVENT
DTSTART;TZID=UTC:20230124T183000
DTEND;TZID=UTC:20230124T200000
DTSTAMP:20260424T092512
CREATED:20230109T213835Z
LAST-MODIFIED:20230109T213835Z
UID:2104-1674585000-1674590400@grandstrandmga.org
SUMMARY:GSMGA Monthly Meeting
DESCRIPTION:
URL:https://grandstrandmga.org/event/gsmga-monthly-meeting/
LOCATION:Church of Christ Grand Strand\, 2212 Glenns Bay Road\, Surfside Beach\, SC\, United States
END:VEVENT
BEGIN:VEVENT
DTSTART;TZID=UTC:20221025T183000
DTEND;TZID=UTC:20221025T200000
DTSTAMP:20260424T092512
CREATED:20220627T152602Z
LAST-MODIFIED:20220627T152602Z
UID:2008-1666722600-1666728000@grandstrandmga.org
SUMMARY:GSMGA Meeting
DESCRIPTION:
URL:https://grandstrandmga.org/event/gsmga-meeting-9/
LOCATION:Church of Christ Grand Strand\, 2212 Glenns Bay Road\, Surfside Beach\, SC\, United States
END:VEVENT
BEGIN:VEVENT
DTSTART;TZID=UTC:20220929T130000
DTEND;TZID=UTC:20220929T150000
DTSTAMP:20260424T092512
CREATED:20220815T204426Z
LAST-MODIFIED:20220815T204426Z
UID:2094-1664456400-1664463600@grandstrandmga.org
SUMMARY:Plant Problem Clinic
DESCRIPTION:
URL:https://grandstrandmga.org/event/plant-problem-clinic-34/
LOCATION:Inlet Square Mall\, 12125 US Highway 17 Bypass South\, Murrells Inlet\, SC\, 29576\, United States
END:VEVENT
BEGIN:VEVENT
DTSTART;TZID=UTC:20220927T183000
DTEND;TZID=UTC:20220927T200000
DTSTAMP:20260424T092512
CREATED:20220815T200734Z
LAST-MODIFIED:20220815T200747Z
UID:2050-1664303400-1664308800@grandstrandmga.org
SUMMARY:GSMGA Meeting
DESCRIPTION:
URL:https://grandstrandmga.org/event/gsmga-meeting-10/
LOCATION:Church of Christ Grand Strand\, 2212 Glenns Bay Road\, Surfside Beach\, SC\, United States
END:VEVENT
BEGIN:VEVENT
DTSTART;TZID=UTC:20220927T100000
DTEND;TZID=UTC:20220927T140000
DTSTAMP:20260424T092512
CREATED:20220815T204350Z
LAST-MODIFIED:20220815T204350Z
UID:2092-1664272800-1664287200@grandstrandmga.org
SUMMARY:Plant Problem Clinic
DESCRIPTION:
URL:https://grandstrandmga.org/event/plant-problem-clinic-33/
LOCATION:Surfside Farmers Market\, Surfside Dr &\, N Willow Dr\,\, Surfside Beach\, SC\, 29575\, United States
END:VEVENT
BEGIN:VEVENT
DTSTART;TZID=UTC:20220924T100000
DTEND;TZID=UTC:20220924T130000
DTSTAMP:20260424T092512
CREATED:20220815T204313Z
LAST-MODIFIED:20220815T204313Z
UID:2090-1664013600-1664024400@grandstrandmga.org
SUMMARY:Plant Problem Clinic
DESCRIPTION:
URL:https://grandstrandmga.org/event/plant-problem-clinic-32/
LOCATION:Georgetown Farmers Market\, 122 Screven Street\, Georgetown\, SC\, 29440\, United States
END:VEVENT
BEGIN:VEVENT
DTSTART;TZID=UTC:20220922T130000
DTEND;TZID=UTC:20220922T150000
DTSTAMP:20260424T092512
CREATED:20220815T204217Z
LAST-MODIFIED:20220815T204217Z
UID:2088-1663851600-1663858800@grandstrandmga.org
SUMMARY:Plant Problem Clinic
DESCRIPTION:
URL:https://grandstrandmga.org/event/plant-problem-clinic-31/
LOCATION:Inlet Square Mall\, 12125 US Highway 17 Bypass South\, Murrells Inlet\, SC\, 29576\, United States
END:VEVENT
END:VCALENDAR