BEGIN:VCALENDAR
VERSION:2.0
PRODID:-//Grand Strand Master Gardeners Association - ECPv6.15.20//NONSGML v1.0//EN
CALSCALE:GREGORIAN
METHOD:PUBLISH
X-WR-CALNAME:Grand Strand Master Gardeners Association
X-ORIGINAL-URL:https://grandstrandmga.org
X-WR-CALDESC:Events for Grand Strand Master Gardeners Association
REFRESH-INTERVAL;VALUE=DURATION:PT1H
X-Robots-Tag:noindex
X-PUBLISHED-TTL:PT1H
BEGIN:VTIMEZONE
TZID:UTC
BEGIN:STANDARD
TZOFFSETFROM:+0000
TZOFFSETTO:+0000
TZNAME:UTC
DTSTART:20250101T000000
END:STANDARD
END:VTIMEZONE
BEGIN:VEVENT
DTSTART;TZID=UTC:20260505T083000
DTEND;TZID=UTC:20260505T123000
DTSTAMP:20260423T144224
CREATED:20260409T174656Z
LAST-MODIFIED:20260409T174656Z
UID:2946-1777969800-1777984200@grandstrandmga.org
SUMMARY:Plant Problem Clinic
DESCRIPTION:
URL:https://grandstrandmga.org/event/plant-problem-clinic-140/
LOCATION:Surfside Farmers Market\, Surfside Dr &\, N Willow Dr\,\, Surfside Beach\, SC\, 29575\, United States
END:VEVENT
END:VCALENDAR